BEGIN:VCALENDAR
VERSION:2.0
PRODID:spatie/icalendar-generator
DESCRIPTION:Veranstaltungen von 
X-WR-CALDESC:Veranstaltungen von 
REFRESH-INTERVAL;VALUE=DURATION:PT1440M
X-PUBLISHED-TTL:PT1440M
BEGIN:VTIMEZONE
TZID:Europe/Berlin
BEGIN:DAYLIGHT
DTSTART:20220327T020000Z
TZOFFSETFROM:+0100
TZOFFSETTO:+0200
END:DAYLIGHT
BEGIN:STANDARD
DTSTART:20221030T030000Z
TZOFFSETFROM:+0200
TZOFFSETTO:+0100
END:STANDARD
BEGIN:DAYLIGHT
DTSTART:20230326T020000Z
TZOFFSETFROM:+0100
TZOFFSETTO:+0200
END:DAYLIGHT
END:VTIMEZONE
BEGIN:VTIMEZONE
TZID:UTC
BEGIN:STANDARD
DTSTART:20250727T234801Z
TZOFFSETFROM:+0000
TZOFFSETTO:+0000
END:STANDARD
END:VTIMEZONE
BEGIN:VEVENT
UID:95-63
DTSTAMP:20260423T234801Z
SUMMARY:Packsdrauf -- Botschafter:in-Fortbildung für Solarparty-Veranstalt
 ung
LOCATION:
ORGANIZER;CN=thomas - als admin:MAILTO:tb_xlist@posteo.de
DTSTART;TZID=Europe/Berlin:20221011T180000
DTEND;TZID=Europe/Berlin:20221011T200000
X-ALT-DESC;FMTTYPE=TEXT/HTML:Stand der Dinge : Wir bereiten uns gerade vor\
 , um mit »packsdrauf« deutschlandweit durchzustarten. Damit alle Solarpa
 rtys fachlich gut begleitet sind\, liegt unser aktueller Fokus auf der bun
 desweiten Fortbildung der Botschafter:innen. 500 Botschafter:innen sind da
 s Ziel für 2022. Dafür finden etwa alle 14 Tage Fortbildungstermin statt
 . Pack gerne mit an\, damit wir unser Ziel erreichen.&amp;hellip\;
CATEGORIES:diverse Inis,  General
URL;VALUE=URI:https://boklima.de/?page_id=10583&#038;mc_id=95&#038;vcal=95
METHOD:PUBLISH
END:VEVENT
END:VCALENDAR