BEGIN:VCALENDAR
VERSION:2.0
PRODID:spatie/icalendar-generator
DESCRIPTION:Veranstaltungen von 
X-WR-CALDESC:Veranstaltungen von 
REFRESH-INTERVAL;VALUE=DURATION:PT1440M
X-PUBLISHED-TTL:PT1440M
BEGIN:VTIMEZONE
TZID:Europe/Berlin
BEGIN:STANDARD
DTSTART:20251026T030000Z
TZOFFSETFROM:+0200
TZOFFSETTO:+0100
END:STANDARD
BEGIN:DAYLIGHT
DTSTART:20260329T020000Z
TZOFFSETFROM:+0100
TZOFFSETTO:+0200
END:DAYLIGHT
BEGIN:STANDARD
DTSTART:20261025T030000Z
TZOFFSETFROM:+0200
TZOFFSETTO:+0100
END:STANDARD
END:VTIMEZONE
BEGIN:VTIMEZONE
TZID:UTC
BEGIN:STANDARD
DTSTART:20250728T153050Z
TZOFFSETFROM:+0000
TZOFFSETTO:+0000
END:STANDARD
END:VTIMEZONE
BEGIN:VEVENT
UID:438-272
DTSTAMP:20260424T153050Z
SUMMARY:Alle zusammen nach Hamm! -- Aufruf: Zukunft statt Gas
LOCATION:
ORGANIZER;CN=thomas - als admin:MAILTO:tb_xlist@posteo.de
DTSTART;TZID=Europe/Berlin;VALUE=DATE:20260530
DTEND;TZID=Europe/Berlin;VALUE=DATE:20260531
X-ALT-DESC;FMTTYPE=TEXT/HTML:&amp;nbsp\; Mehr : https://www.campact.de/zukunft-
 statt-gas-demo/ Alle zusammen nach Hamm! Aufruf von FFF \, Campact \, Bund
  \, GreenPeace \, ... Am 30. Mai kommen wir als große Bewegung für Energ
 iewende und Klimagerechtigkeit in Hamm zusammen\, um klarzumachen: Mitten 
 in der Klima- und Energiepreiskrise brauchen wir die Energiewende mehr den
 n je. Wirtschaftsministerin Katerina Reiche (CDU) setzt dagegen&amp;hellip\;
CATEGORIES:FFF
URL;VALUE=URI:https://boklima.de/?page_id=10583&#038;mc_id=438&#038;vcal=43
 8
METHOD:PUBLISH
END:VEVENT
END:VCALENDAR