BEGIN:VCALENDAR
VERSION:2.0
PRODID:spatie/icalendar-generator
DESCRIPTION:Veranstaltungen von 
X-WR-CALDESC:Veranstaltungen von 
REFRESH-INTERVAL;VALUE=DURATION:PT1440M
X-PUBLISHED-TTL:PT1440M
BEGIN:VTIMEZONE
TZID:Europe/Berlin
BEGIN:STANDARD
DTSTART:20251026T030000Z
TZOFFSETFROM:+0200
TZOFFSETTO:+0100
END:STANDARD
BEGIN:DAYLIGHT
DTSTART:20260329T020000Z
TZOFFSETFROM:+0100
TZOFFSETTO:+0200
END:DAYLIGHT
BEGIN:STANDARD
DTSTART:20261025T030000Z
TZOFFSETFROM:+0200
TZOFFSETTO:+0100
END:STANDARD
END:VTIMEZONE
BEGIN:VTIMEZONE
TZID:UTC
BEGIN:STANDARD
DTSTART:20250729T192633Z
TZOFFSETFROM:+0000
TZOFFSETTO:+0000
END:STANDARD
END:VTIMEZONE
BEGIN:VEVENT
UID:435-269
DTSTAMP:20260425T192633Z
SUMMARY:Polares Eis als Klimaarchiv  – ein Blick in Vergangenheit und Zuk
 unft
LOCATION:
ORGANIZER;CN=thomas - als admin:MAILTO:tb_xlist@posteo.de
DTSTART;TZID=Europe/Berlin:20260520T190000
DTEND;TZID=Europe/Berlin:20260520T210000
X-ALT-DESC;FMTTYPE=TEXT/HTML:Vortrag\, MI  20.05.2026\, 19.00 Uhr Dr. Alex
 andra ZUHR\, Universität Tübingen: Katholische Familienbildungsstätte B
 ochum\, Am Bergbaumuseum 37\, Bochum Die eisigen Weiten Grönlands und der
  Antarktis sind nicht nur faszinierend\, sondern auch ein wertvolles Klima
 archiv. In ihren Eisschichten sind jahrtausendalte Klimadaten gespeichert.
  Sie sind ein einzigartiger Blick in die Vergangenheit! Doch warum ist (al
 tes) Eis so bedeutend?&amp;hellip\;
CATEGORIES:diverse Inis
URL;VALUE=URI:https://boklima.de/?page_id=10583&#038;mc_id=435&#038;vcal=43
 5
METHOD:PUBLISH
END:VEVENT
END:VCALENDAR