BEGIN:VCALENDAR
VERSION:2.0
PRODID:spatie/icalendar-generator
DESCRIPTION:Veranstaltungen von 
X-WR-CALDESC:Veranstaltungen von 
REFRESH-INTERVAL;VALUE=DURATION:PT1440M
X-PUBLISHED-TTL:PT1440M
BEGIN:VTIMEZONE
TZID:Europe/Berlin
BEGIN:DAYLIGHT
DTSTART:20250330T020000Z
TZOFFSETFROM:+0100
TZOFFSETTO:+0200
END:DAYLIGHT
BEGIN:STANDARD
DTSTART:20251026T030000Z
TZOFFSETFROM:+0200
TZOFFSETTO:+0100
END:STANDARD
END:VTIMEZONE
BEGIN:VTIMEZONE
TZID:UTC
BEGIN:STANDARD
DTSTART:20250726T123306Z
TZOFFSETFROM:+0000
TZOFFSETTO:+0000
END:STANDARD
END:VTIMEZONE
BEGIN:VEVENT
UID:298-204
DTSTAMP:20260422T123306Z
SUMMARY:Fledermausbeobachtung im Stadtpark
LOCATION:
ORGANIZER;CN=thomas - als admin:MAILTO:tb_xlist@posteo.de
DTSTART;TZID=Europe/Berlin:20250913T203000
DTEND;TZID=Europe/Berlin:20250913T213000
X-ALT-DESC;FMTTYPE=TEXT/HTML:20.30 Uhr\, Fledermausbeobachtung im Stadtpark
  Ein Schwerpunkt der Arbeit des AkU ist der Fledermausschutz. Daher laden 
 wir im Anschluss im Stadtpark zur Fledermausbeobachtung ein. Wir machen au
 ch die Ultraschallrufe hörbar und erklären allerlei Spannendes über die
  Lebensweise der Tiere. Referent*innen Dr. Ingo Franke (Fledermausschutz s
 eit 1984) Tina Wiener (Biologin\, Fledermausschützerin) Marina Mariani (F
 ledermausschützerin) Kosten Der&amp;hellip\;
CATEGORIES:AKU
URL;VALUE=URI:https://boklima.de/?page_id=10583&#038;mc_id=298&#038;vcal=29
 8
METHOD:PUBLISH
END:VEVENT
END:VCALENDAR