BEGIN:VCALENDAR
VERSION:2.0
PRODID:spatie/icalendar-generator
DESCRIPTION:Veranstaltungen von 
X-WR-CALDESC:Veranstaltungen von 
REFRESH-INTERVAL;VALUE=DURATION:PT1440M
X-PUBLISHED-TTL:PT1440M
BEGIN:VTIMEZONE
TZID:Europe/Berlin
BEGIN:STANDARD
DTSTART:20241027T030000Z
TZOFFSETFROM:+0200
TZOFFSETTO:+0100
END:STANDARD
BEGIN:DAYLIGHT
DTSTART:20250330T020000Z
TZOFFSETFROM:+0100
TZOFFSETTO:+0200
END:DAYLIGHT
END:VTIMEZONE
BEGIN:VTIMEZONE
TZID:UTC
BEGIN:STANDARD
DTSTART:20250724T130234Z
TZOFFSETFROM:+0000
TZOFFSETTO:+0000
END:STANDARD
END:VTIMEZONE
BEGIN:VEVENT
UID:274-182
DTSTAMP:20260420T130234Z
SUMMARY:Innovation anne Theke -- Schwamm drunter! – das Wissensspiel zur 
 Klimaanpassung
LOCATION:
ORGANIZER;CN=thomas - als admin:MAILTO:tb_xlist@posteo.de
DTSTART;TZID=Europe/Berlin:20250306T170000
DTEND;TZID=Europe/Berlin:20250306T200000
X-ALT-DESC;FMTTYPE=TEXT/HTML:weitere Infos siehe :  hier
CATEGORIES:BoKlima Veranstaltung,  Verbraucherzentrale
URL;VALUE=URI:https://boklima.de/?page_id=10583&#038;mc_id=274&#038;vcal=27
 4
METHOD:PUBLISH
END:VEVENT
END:VCALENDAR