BEGIN:VCALENDAR
VERSION:2.0
PRODID:spatie/icalendar-generator
DESCRIPTION:Veranstaltungen von 
X-WR-CALDESC:Veranstaltungen von 
REFRESH-INTERVAL;VALUE=DURATION:PT1440M
X-PUBLISHED-TTL:PT1440M
BEGIN:VTIMEZONE
TZID:Europe/Berlin
BEGIN:STANDARD
DTSTART:20241027T030000Z
TZOFFSETFROM:+0200
TZOFFSETTO:+0100
END:STANDARD
BEGIN:DAYLIGHT
DTSTART:20250330T020000Z
TZOFFSETFROM:+0100
TZOFFSETTO:+0200
END:DAYLIGHT
END:VTIMEZONE
BEGIN:VTIMEZONE
TZID:UTC
BEGIN:STANDARD
DTSTART:20250727T145353Z
TZOFFSETFROM:+0000
TZOFFSETTO:+0000
END:STANDARD
END:VTIMEZONE
BEGIN:VEVENT
UID:261-179
DTSTAMP:20260423T145353Z
SUMMARY:EXKURSION: WÄRMEPUMPE IM ALTBAU -- ausgebucht
LOCATION:
ORGANIZER;CN=thomas - als admin:MAILTO:tb_xlist@posteo.de
DTSTART;TZID=Europe/Berlin:20250208T110000
DTEND;TZID=Europe/Berlin:20250208T123000
X-ALT-DESC;FMTTYPE=TEXT/HTML:Diese Veranstaltung ist leider ausgebucht -- e
 s wird weitere geben \; Bei Interesse bitte EM an : waermepumpe [bei] bokl
 ima.de weitere Infos : hier
CATEGORIES:diverse Inis,  pv
URL;VALUE=URI:https://boklima.de/?page_id=10583&#038;mc_id=261&#038;vcal=26
 1
METHOD:PUBLISH
END:VEVENT
END:VCALENDAR