BEGIN:VCALENDAR
VERSION:2.0
PRODID:spatie/icalendar-generator
DESCRIPTION:Veranstaltungen von 
X-WR-CALDESC:Veranstaltungen von 
REFRESH-INTERVAL;VALUE=DURATION:PT1440M
X-PUBLISHED-TTL:PT1440M
BEGIN:VTIMEZONE
TZID:Europe/Berlin
BEGIN:DAYLIGHT
DTSTART:20240331T020000Z
TZOFFSETFROM:+0100
TZOFFSETTO:+0200
END:DAYLIGHT
BEGIN:STANDARD
DTSTART:20241027T030000Z
TZOFFSETFROM:+0200
TZOFFSETTO:+0100
END:STANDARD
END:VTIMEZONE
BEGIN:VTIMEZONE
TZID:UTC
BEGIN:STANDARD
DTSTART:20250729T175813Z
TZOFFSETFROM:+0000
TZOFFSETTO:+0000
END:STANDARD
END:VTIMEZONE
BEGIN:VEVENT
UID:230-165
DTSTAMP:20260425T175813Z
SUMMARY:VHS\, BoKlima — nächster Workshop zu Balkon-Kraftwerken
LOCATION:
ORGANIZER;CN=thomas - als admin:MAILTO:tb_xlist@posteo.de
DTSTART;TZID=Europe/Berlin:20240914T103000
DTEND;TZID=Europe/Berlin:20240914T123000
X-ALT-DESC;FMTTYPE=TEXT/HTML:weitere Infos : https://boklima.de/?p=14333 9.
  Workshop : SA\, 14.09.2024 \, 10:30 – ca. 12:30 h\, VHS\, Clubraum (unt
 en rechts9 Anmelden bitte via EM : balkonsolar@boklima.de UND bei der VHS 
 VHS KursNr.: J20001 \; Link bei der VHS : hier Der Workshop ist kostenlos 
 ! Boklima motiviert und informiert in seinen Workshops zu Balkon-Kraftwerk
 en / Mini-PV-Anlagen&amp;hellip\;
CATEGORIES:BoKlima Veranstaltung,  pv,  VHS
URL;VALUE=URI:https://boklima.de/?page_id=10583&#038;mc_id=230&#038;vcal=23
 0
METHOD:PUBLISH
END:VEVENT
END:VCALENDAR