BEGIN:VCALENDAR
VERSION:2.0
PRODID:spatie/icalendar-generator
DESCRIPTION:Veranstaltungen von 
X-WR-CALDESC:Veranstaltungen von 
REFRESH-INTERVAL;VALUE=DURATION:PT1440M
X-PUBLISHED-TTL:PT1440M
BEGIN:VTIMEZONE
TZID:Europe/Berlin
BEGIN:DAYLIGHT
DTSTART:20240331T020000Z
TZOFFSETFROM:+0100
TZOFFSETTO:+0200
END:DAYLIGHT
BEGIN:STANDARD
DTSTART:20241027T030000Z
TZOFFSETFROM:+0200
TZOFFSETTO:+0100
END:STANDARD
END:VTIMEZONE
BEGIN:VTIMEZONE
TZID:UTC
BEGIN:STANDARD
DTSTART:20250725T113038Z
TZOFFSETFROM:+0000
TZOFFSETTO:+0000
END:STANDARD
END:VTIMEZONE
BEGIN:VEVENT
UID:229-164
DTSTAMP:20260421T113038Z
SUMMARY:Klimaschutz mit der Lupe - von Transformation zu Arbeit
LOCATION:
ORGANIZER;CN=thomas - als admin:MAILTO:tb_xlist@posteo.de
DTSTART;TZID=Europe/Berlin:20240903T183000
DTEND;TZID=Europe/Berlin:20240903T213000
X-ALT-DESC;FMTTYPE=TEXT/HTML:Vortrag von Claus Truberg (Klimamanager ) Es w
 ird in der Gesellschaft viel über „Umsetzung“\, \"Transformation\" un
 d „Handeln“ zum Schutz des Klimas gesprochen – aber was beinhaltet \
 "Transformation\"\, \"Handeln\" oder \"Umsetzung\"? Wie übersetzt sich da
 s in konkrete Handlungsschritte? Und was macht Kirche so besonders bei die
 ser Aufgabe? Dieser Vortrag bietet Einblicke in den Arbeitsalltag eines Kl
 imaschutzmanagers&amp;hellip\;
CATEGORIES:ev. StadtAkademie
URL;VALUE=URI:https://boklima.de/?page_id=10583&#038;mc_id=229&#038;vcal=22
 9
METHOD:PUBLISH
END:VEVENT
END:VCALENDAR