BEGIN:VCALENDAR
VERSION:2.0
PRODID:spatie/icalendar-generator
DESCRIPTION:Veranstaltungen von 
X-WR-CALDESC:Veranstaltungen von 
REFRESH-INTERVAL;VALUE=DURATION:PT1440M
X-PUBLISHED-TTL:PT1440M
BEGIN:VTIMEZONE
TZID:Europe/Berlin
BEGIN:DAYLIGHT
DTSTART:20240331T020000Z
TZOFFSETFROM:+0100
TZOFFSETTO:+0200
END:DAYLIGHT
BEGIN:STANDARD
DTSTART:20241027T030000Z
TZOFFSETFROM:+0200
TZOFFSETTO:+0100
END:STANDARD
END:VTIMEZONE
BEGIN:VTIMEZONE
TZID:UTC
BEGIN:STANDARD
DTSTART:20250729T191841Z
TZOFFSETFROM:+0000
TZOFFSETTO:+0000
END:STANDARD
END:VTIMEZONE
BEGIN:VEVENT
UID:228-163
DTSTAMP:20260425T191841Z
SUMMARY:Vortrag / Diskussion mit der BEG Dortmund
LOCATION:
ORGANIZER;CN=thomas - als admin:MAILTO:tb_xlist@posteo.de
DTSTART;TZID=Europe/Berlin:20240820T190000
DTEND;TZID=Europe/Berlin:20240820T210000
X-ALT-DESC;FMTTYPE=TEXT/HTML:BUND und NABU laden für den 20.8. / 19:00 (ja
 \, das ist bald) zu Vortrag mit Diskussion mit der BEG Dortmund ein. Ort i
 st der Projektor in der Dortmunder Innenstadt. Wenn Ihr Lust habt meldet e
 uch an. https://www.bund-dortmund.de/service/termine/detail/event/vortrag/
CATEGORIES:diverse Inis,  pv
URL;VALUE=URI:https://boklima.de/?page_id=10583&#038;mc_id=228&#038;vcal=22
 8
METHOD:PUBLISH
END:VEVENT
END:VCALENDAR