BEGIN:VCALENDAR
VERSION:2.0
PRODID:spatie/icalendar-generator
DESCRIPTION:Veranstaltungen von 
X-WR-CALDESC:Veranstaltungen von 
REFRESH-INTERVAL;VALUE=DURATION:PT1440M
X-PUBLISHED-TTL:PT1440M
BEGIN:VTIMEZONE
TZID:Europe/Berlin
BEGIN:STANDARD
DTSTART:20231029T030000Z
TZOFFSETFROM:+0200
TZOFFSETTO:+0100
END:STANDARD
BEGIN:DAYLIGHT
DTSTART:20240331T020000Z
TZOFFSETFROM:+0100
TZOFFSETTO:+0200
END:DAYLIGHT
END:VTIMEZONE
BEGIN:VTIMEZONE
TZID:UTC
BEGIN:STANDARD
DTSTART:20250724T043925Z
TZOFFSETFROM:+0000
TZOFFSETTO:+0000
END:STANDARD
END:VTIMEZONE
BEGIN:VEVENT
UID:188-136
DTSTAMP:20260420T043925Z
SUMMARY:Kick-Off-Veranstaltung des Netzwerks \"Nachhaltigkeitsallianz Metro
 pole Ruhr\"
LOCATION:
ORGANIZER;CN=thomas - als admin:MAILTO:tb_xlist@posteo.de
DTSTART;TZID=Europe/Berlin:20240206T090000
DTEND;TZID=Europe/Berlin:20240206T140000
X-ALT-DESC;FMTTYPE=TEXT/HTML:der Countdown für die Kick-Off-Veranstaltung 
 des Netzwerks \"Nachhaltigkeitsallianz Metropole Ruhr\" läuft. Im Namen d
 er Hochschule Bochum und des Projekts THALESruhr möchten wir Sie nochmals
  herzlich dazu einladen. Die Hochschule Bochum hat sich mit diesem Projekt
  zur Aufgabe gemacht\, die Transformation zur nachhaltigen Region voranzut
 reiben. Dazu bringen wir neun spannende wissenschaftliche Vorhaben sowie e
 in dynamisches Netzwerk&amp;hellip\;
CATEGORIES:diverse Inis
URL;VALUE=URI:https://boklima.de/?page_id=10583&#038;mc_id=188&#038;vcal=18
 8
METHOD:PUBLISH
END:VEVENT
END:VCALENDAR