BEGIN:VCALENDAR
VERSION:2.0
PRODID:spatie/icalendar-generator
DESCRIPTION:Veranstaltungen von 
X-WR-CALDESC:Veranstaltungen von 
REFRESH-INTERVAL;VALUE=DURATION:PT1440M
X-PUBLISHED-TTL:PT1440M
BEGIN:VTIMEZONE
TZID:Europe/Berlin
BEGIN:STANDARD
DTSTART:20231029T030000Z
TZOFFSETFROM:+0200
TZOFFSETTO:+0100
END:STANDARD
BEGIN:DAYLIGHT
DTSTART:20240331T020000Z
TZOFFSETFROM:+0100
TZOFFSETTO:+0200
END:DAYLIGHT
END:VTIMEZONE
BEGIN:VTIMEZONE
TZID:UTC
BEGIN:STANDARD
DTSTART:20250724T043930Z
TZOFFSETFROM:+0000
TZOFFSETTO:+0000
END:STANDARD
END:VTIMEZONE
BEGIN:VEVENT
UID:173-131
DTSTAMP:20260420T043930Z
SUMMARY:Einladung zur 10. Kommunalen Nachhaltigkeitstagung NRW  -- Essen
LOCATION:
ORGANIZER;CN=thomas - als admin:MAILTO:tb_xlist@posteo.de
DTSTART;TZID=Europe/Berlin:20240201T100000
DTEND;TZID=Europe/Berlin:20240201T160000
X-ALT-DESC;FMTTYPE=TEXT/HTML:Betreff: Infos von der LAG 21 NRW: Einladung z
 ur 10. Kommunalen Nachhaltigkeitstagung NRW Programm siehe hier als ehemal
 ige Teilnehmende unserer Veranstaltungsformate möchten wir Sie heute herz
 lich zur 10. Ausgabe des Netzwerkformats einladen. Die Eckdaten: *10. Komm
 unale Nachhaltigkeitstagung NRW* *01.Februar 2024 | 10-16 Uhr* *Tagungs- u
 nd Stadthotel Franz | Steeler Str. 261\, 45138 Essen* Teilnahme kostenlos&amp;
 hellip\;
CATEGORIES:diverse Inis
URL;VALUE=URI:https://boklima.de/?page_id=10583&#038;mc_id=173&#038;vcal=17
 3
METHOD:PUBLISH
END:VEVENT
END:VCALENDAR