BEGIN:VCALENDAR
VERSION:2.0
PRODID:spatie/icalendar-generator
DESCRIPTION:Veranstaltungen von 
X-WR-CALDESC:Veranstaltungen von 
REFRESH-INTERVAL;VALUE=DURATION:PT1440M
X-PUBLISHED-TTL:PT1440M
BEGIN:VTIMEZONE
TZID:Europe/Berlin
BEGIN:STANDARD
DTSTART:20231029T030000Z
TZOFFSETFROM:+0200
TZOFFSETTO:+0100
END:STANDARD
BEGIN:DAYLIGHT
DTSTART:20240331T020000Z
TZOFFSETFROM:+0100
TZOFFSETTO:+0200
END:DAYLIGHT
END:VTIMEZONE
BEGIN:VTIMEZONE
TZID:UTC
BEGIN:STANDARD
DTSTART:20250724T043911Z
TZOFFSETFROM:+0000
TZOFFSETTO:+0000
END:STANDARD
END:VTIMEZONE
BEGIN:VEVENT
UID:169-127
DTSTAMP:20260420T043911Z
SUMMARY:Initiativenflohmarkt
LOCATION:
ORGANIZER;CN=thomas - als admin:MAILTO:tb_xlist@posteo.de
DTSTART;TZID=Europe/Berlin:20240113T150000
DTEND;TZID=Europe/Berlin:20240113T180000
X-ALT-DESC;FMTTYPE=TEXT/HTML:Liebe Bochumer Initiativen\, gut ein halbes Ja
 hr nach dem letzten Initiativenflohmarkt laden wir erneut ein. Der nächst
 e Flohmarkt findet am Samstag\, 13. Januar von 15-18 Uhr in der Quartiersh
 alle der Kofabrik (Stühmeyerstr.33) statt. Zu Flohmarktständen eingelade
 n sind wieder alle Initiativen und Gruppen aus Bochum\, um über den Verka
 uf Geld für die politische Arbeit einzunehmen. Daneben&amp;hellip\;
CATEGORIES:diverse Inis
URL;VALUE=URI:https://boklima.de/?page_id=10583&#038;mc_id=169&#038;vcal=16
 9
METHOD:PUBLISH
END:VEVENT
END:VCALENDAR